BEGIN:VCALENDAR
VERSION:2.0
PRODID:-//ThemeBoy//SportsPress//FR
CALSCALE:GREGORIAN
METHOD:PUBLISH
URL:https://www.tvtbasket.fr/calendar/senior/?feed=sp-ical
X-FROM-URL:https://www.tvtbasket.fr/calendar/senior/?feed=sp-ical
NAME:Match des Seniors
X-WR-CALNAME:Match des Seniors
DESCRIPTION:Match des Seniors
X-WR-CALDESC:Match des Seniors
REFRESH-INTERVAL;VALUE=DURATION:PT2M
X-PUBLISHED-TTL:PT2M
TZID:Europe/Paris
X-WR-TIMEZONE:Europe/Paris
BEGIN:VEVENT
SUMMARY:CARAMAN BASKET CLUB 51 TVTS Seniors 44
UID:9152
STATUS:CONFIRMED
DTSTAMP:19700101T000000
DTSTART:20230929T213000
DTEND:20230929T230000
LAST-MODIFIED:20230925T205759
LOCATION:GYMNASE RAYMOND BIGOT
END:VEVENT
BEGIN:VEVENT
SUMMARY:TVT Seniors vs Labarthe sur Lèze
UID:9153
STATUS:CONFIRMED
DTSTAMP:19700101T000000
DTSTART:20231006T210000
DTEND:20231006T223000
LAST-MODIFIED:20230925T205759
LOCATION:GYMNASE PIERRE DE COUBERTIN
END:VEVENT
BEGIN:VEVENT
SUMMARY:TVT Seniors vs E.S. TOULOUSE CASSELARDIT
UID:9151
STATUS:CONFIRMED
DTSTAMP:19700101T000000
DTSTART:20231011T203000
DTEND:20231011T220000
LAST-MODIFIED:20230925T205758
LOCATION:GYMNASE PIERRE DE COUBERTIN
END:VEVENT
BEGIN:VEVENT
SUMMARY:TVT Seniors vs B. LABEGE AUZEVILLE CLUB
UID:9154
STATUS:CONFIRMED
DTSTAMP:19700101T000000
DTSTART:20231020T210000
DTEND:20231020T223000
LAST-MODIFIED:20230925T205759
LOCATION:GYMNASE PIERRE DE COUBERTIN
END:VEVENT
BEGIN:VEVENT
SUMMARY:TVT Seniors vs BASKET CLUB VERFEILLOIS
UID:9155
STATUS:CONFIRMED
DTSTAMP:19700101T000000
DTSTART:20231117T210000
DTEND:20231117T223000
LAST-MODIFIED:20230925T205800
LOCATION:GYMNASE PIERRE DE COUBERTIN
END:VEVENT
BEGIN:VEVENT
SUMMARY:TVT Seniors vs CTC SUD OUEST MURETAIN
UID:9156
STATUS:CONFIRMED
DTSTAMP:19700101T000000
DTSTART:20231201T210000
DTEND:20231201T223000
LAST-MODIFIED:20230925T205800
LOCATION:GYMNASE PIERRE DE COUBERTIN
END:VEVENT
BEGIN:VEVENT
SUMMARY:OUEST TOULOUSAIN BASKET vs TVT Seniors
UID:9157
STATUS:CONFIRMED
DTSTAMP:19700101T000000
DTSTART:20231208T210000
DTEND:20231208T223000
LAST-MODIFIED:20230925T205801
LOCATION:COMPLEXE SPORTIF DE CANTELAUZE
END:VEVENT
BEGIN:VEVENT
SUMMARY:TVT Seniors vs AS TOURNEFEUILLE
UID:9158
STATUS:CONFIRMED
DTSTAMP:19700101T000000
DTSTART:20231215T210000
DTEND:20231215T223000
LAST-MODIFIED:20230925T205801
LOCATION:GYMNASE PIERRE DE COUBERTIN
END:VEVENT
BEGIN:VEVENT
SUMMARY:TVT Seniors vs CARAMAN BASKET CLUB
UID:9159
STATUS:CONFIRMED
DTSTAMP:19700101T000000
DTSTART:20240112T210000
DTEND:20240112T223000
LAST-MODIFIED:20230925T205802
LOCATION:GYMNASE PIERRE DE COUBERTIN
END:VEVENT
BEGIN:VEVENT
SUMMARY:Labarthe sur Lèze vs TVT Seniors
UID:9160
STATUS:CONFIRMED
DTSTAMP:19700101T000000
DTSTART:20240119T210000
DTEND:20240119T223000
LAST-MODIFIED:20230925T205802
LOCATION:HALLE DES SPORTS
END:VEVENT
BEGIN:VEVENT
SUMMARY:B. LABEGE AUZEVILLE CLUB vs TVT Seniors
UID:9161
STATUS:CONFIRMED
DTSTAMP:19700101T000000
DTSTART:20240202T210000
DTEND:20240202T223000
LAST-MODIFIED:20230925T205803
LOCATION:SALLE POLYVALENTE L'ECLUSE
END:VEVENT
BEGIN:VEVENT
SUMMARY:BASKET CLUB VERFEILLOIS vs TVT Seniors
UID:9162
STATUS:CONFIRMED
DTSTAMP:19700101T000000
DTSTART:20240308T210000
DTEND:20240308T223000
LAST-MODIFIED:20230925T205803
LOCATION:GYMNASE FERNAND DAYDE
END:VEVENT
BEGIN:VEVENT
SUMMARY:CTC SUD OUEST MURETAIN vs TVT Seniors
UID:9163
STATUS:CONFIRMED
DTSTAMP:19700101T000000
DTSTART:20240322T210000
DTEND:20240322T223000
LAST-MODIFIED:20230925T205803
LOCATION:COMPLEXE SPORTIF ARIANE
END:VEVENT
BEGIN:VEVENT
SUMMARY:TVT Seniors vs OUEST TOULOUSAIN BASKET
UID:9164
STATUS:CONFIRMED
DTSTAMP:19700101T000000
DTSTART:20240405T210000
DTEND:20240405T223000
LAST-MODIFIED:20230925T205804
LOCATION:GYMNASE PIERRE DE COUBERTIN
END:VEVENT
BEGIN:VEVENT
SUMMARY:AS TOURNEFEUILLE vs TVT Seniors
UID:9165
STATUS:CONFIRMED
DTSTAMP:19700101T000000
DTSTART:20240426T210000
DTEND:20240426T223000
LAST-MODIFIED:20230925T205804
LOCATION:GYMNASE COLLEGE LEONARD DE VINCI
END:VEVENT
END:VCALENDAR