BEGIN:VCALENDAR
VERSION:2.0
PRODID:-//ThemeBoy//SportsPress//FR
CALSCALE:GREGORIAN
METHOD:PUBLISH
URL:https://www.tvtbasket.fr/calendar/u11-1/?feed=sp-ical
X-FROM-URL:https://www.tvtbasket.fr/calendar/u11-1/?feed=sp-ical
NAME:Matchs des U11-1
X-WR-CALNAME:Matchs des U11-1
DESCRIPTION:Matchs des U11-1
X-WR-CALDESC:Matchs des U11-1
REFRESH-INTERVAL;VALUE=DURATION:PT2M
X-PUBLISHED-TTL:PT2M
TZID:Europe/Paris
X-WR-TIMEZONE:Europe/Paris
BEGIN:VEVENT
SUMMARY:TVTS U11-1 12 AVENIR MURETAIN 20
UID:9166
STATUS:CONFIRMED
DTSTAMP:19700101T000000
DTSTART:20230930T000000
DTEND:20230930T013000
LAST-MODIFIED:20230925T205805
LOCATION:GYMNASE PIERRE DE COUBERTIN
END:VEVENT
BEGIN:VEVENT
SUMMARY:ASC AVENIR SPORTIF CAZERIEN BASKET vs TVT U11-1
UID:9167
STATUS:CONFIRMED
DTSTAMP:19700101T000000
DTSTART:20231007T000000
DTEND:20231007T013000
LAST-MODIFIED:20230925T205805
LOCATION:GYMNASE DU LYCEE MARTIN MALVY
END:VEVENT
BEGIN:VEVENT
SUMMARY:TVT U11-1 vs NOE CARBONNE BASKET
UID:9168
STATUS:CONFIRMED
DTSTAMP:19700101T000000
DTSTART:20231014T000000
DTEND:20231014T013000
LAST-MODIFIED:20230925T205806
LOCATION:GYMNASE PIERRE DE COUBERTIN
END:VEVENT
END:VCALENDAR