BEGIN:VCALENDAR
VERSION:2.0
PRODID:-//ThemeBoy//SportsPress//FR
CALSCALE:GREGORIAN
METHOD:PUBLISH
URL:https://www.tvtbasket.fr/calendar/u13-1/?feed=sp-ical
X-FROM-URL:https://www.tvtbasket.fr/calendar/u13-1/?feed=sp-ical
NAME:Matchs des U13-1
X-WR-CALNAME:Matchs des U13-1
DESCRIPTION:Matchs des U13-1
X-WR-CALDESC:Matchs des U13-1
REFRESH-INTERVAL;VALUE=DURATION:PT2M
X-PUBLISHED-TTL:PT2M
TZID:Europe/Paris
X-WR-TIMEZONE:Europe/Paris
BEGIN:VEVENT
SUMMARY:TVTS U13-1 84 Racing Club Eaunes basket 19
UID:9149
STATUS:CONFIRMED
DTSTAMP:19700101T000000
DTSTART:20230923T130000
DTEND:20230923T143000
LAST-MODIFIED:20230925T205757
LOCATION:GYMNASE PIERRE DE COUBERTIN
END:VEVENT
END:VCALENDAR