BEGIN:VCALENDAR
VERSION:2.0
PRODID:-//ThemeBoy//SportsPress//FR
CALSCALE:GREGORIAN
METHOD:PUBLISH
URL:https://www.tvtbasket.fr/calendar/u13-2/?feed=sp-ical
X-FROM-URL:https://www.tvtbasket.fr/calendar/u13-2/?feed=sp-ical
NAME:Matchs des U13-2
X-WR-CALNAME:Matchs des U13-2
DESCRIPTION:Matchs des U13-2
X-WR-CALDESC:Matchs des U13-2
REFRESH-INTERVAL;VALUE=DURATION:PT2M
X-PUBLISHED-TTL:PT2M
TZID:Europe/Paris
X-WR-TIMEZONE:Europe/Paris
BEGIN:VEVENT
SUMMARY:Labarthe sur Lèze 99 TVTS U13-2 7
UID:9150
STATUS:CONFIRMED
DTSTAMP:19700101T000000
DTSTART:20230923T110000
DTEND:20230923T123000
LAST-MODIFIED:20230925T210323
LOCATION:HALLE DES SPORTS
END:VEVENT
END:VCALENDAR