BEGIN:VCALENDAR
VERSION:2.0
PRODID:-//ThemeBoy//SportsPress//FR
CALSCALE:GREGORIAN
METHOD:PUBLISH
URL:https://www.tvtbasket.fr/calendar/u15/?feed=sp-ical
X-FROM-URL:https://www.tvtbasket.fr/calendar/u15/?feed=sp-ical
NAME:Match des U15
X-WR-CALNAME:Match des U15
DESCRIPTION:Match des U15
X-WR-CALDESC:Match des U15
REFRESH-INTERVAL;VALUE=DURATION:PT2M
X-PUBLISHED-TTL:PT2M
TZID:Europe/Paris
X-WR-TIMEZONE:Europe/Paris
BEGIN:VEVENT
SUMMARY:FROUZINS ATHLETIC CLUB 17 TVTS U15 70
UID:9147
STATUS:CONFIRMED
DTSTAMP:19700101T000000
DTSTART:20230923T131500
DTEND:20230923T144500
LAST-MODIFIED:20230925T205756
LOCATION:GYMNASE POLYVALENT
END:VEVENT
END:VCALENDAR